BEGIN:VCALENDAR
VERSION:2.0
PRODID:-//Amigos de la Ópera de Sevilla - ECPv5.6.0//NONSGML v1.0//EN
CALSCALE:GREGORIAN
METHOD:PUBLISH
X-WR-CALNAME:Amigos de la Ópera de Sevilla
X-ORIGINAL-URL:https://www.asao.es
X-WR-CALDESC:Eventos para Amigos de la Ópera de Sevilla
BEGIN:VTIMEZONE
TZID:UTC
BEGIN:STANDARD
TZOFFSETFROM:+0000
TZOFFSETTO:+0000
TZNAME:UTC
DTSTART:20200101T000000
END:STANDARD
END:VTIMEZONE
BEGIN:VEVENT
DTSTART;TZID=UTC:20210214T120000
DTEND;TZID=UTC:20210214T150000
DTSTAMP:20260422T160732
CREATED:20210205T083309Z
LAST-MODIFIED:20210205T083312Z
UID:15382-1613304000-1613314800@www.asao.es
SUMMARY:Un ballo in maschera | Giuseppe Verdi | Teatro de la Maestranza
DESCRIPTION:Temporada Lírica Teatro de la Maestranza\nFebrero 2021. Sala Principal \n\nProducción: Teatro La Fenice de Venecia. Reposición en colaboración entre Teatro de la Maestranza y el Teatro Real\nReal Orquesta Sinfónica de Sevilla\nCoro de la A.A. del Teatro de la Maestranza\nDirector: Íñigo Sampil\n\nUna conspiración amenaza la vida del despreocupado gobernador Ricardo\, quien podría ser asesinado en la confusión de un baile de máscaras. Sobre esa base argumental\, que parece el arranque de una novela de Agatha Christie\, Giuseppe Verdi construye un tenso thriller político y amoroso basado en el asesinato real del rey Gustavo III de Suecia acontecido durante un baile cortesano en 1792. \nEnredos sentimentales\, negras profecías de hechicera o los ideales de libertad difundidos en una Italia dominada aún por el imperio austriaco\, alimentan una ópera llena de dúos de amor\, peligros\, supersticiones y fatalidades. \nHeredera de Rigoletto o La traviata\, Un ballo in maschera es una ópera coral que combina lirismo y brillantez en un título que el gran público abrazó inmediatamente. Francesco Ivan Ciampa\, al frente de la ROSS y del Coro de la A.A. del Teatro de la Maestranza\, dirige al gran tenor mexicano Ramón Vargas junto a Lianna Haroutounian o Gabriele Viviani en un cast de primer orden para un gran Verdi. \n14 y 20 de febrero\, 12:00h\n17 de febrero\, 15:00h
URL:https://www.asao.es/event/un-ballo-in-maschera-giuseppe-verdi-teatro-de-la-maestranza
LOCATION:Teatro de la Maestranza\, Paseo de Cristóbal Colón\, 22\, Sevilla\, Sevilla\, 41001\, España
ATTACH;FMTTYPE=image/png:https://www.asao.es/wp-content/uploads/2021/02/Un-ballo-in-maschera-©Michele-Crosera_1.png
END:VEVENT
BEGIN:VEVENT
DTSTART;TZID=UTC:20210213T120000
DTEND;TZID=UTC:20210213T143000
DTSTAMP:20260422T160732
CREATED:20210205T101448Z
LAST-MODIFIED:20210205T101448Z
UID:15400-1613217600-1613226600@www.asao.es
SUMMARY:Recital Lírico | Ismael Jordi y Mariola Cantarero | Teatro de la Maestranza
DESCRIPTION:Belcantismo andaluz \nDesde hace algunos años\, dos voces andaluzas protagonizan los mejores cartelones belcantistas de los grandes teatros de ópera del mundo. De un lado\, Mariola Cantarero (Granada\, 1978) y\, de otro\, Ismael Jordi (Jerez de la Frontera\, 1973) han seducido a la audiencia con la belleza de sus timbres\, su dominio de las agilidades o la intensidad escénica con la que interiorizan sus personajes de Donizetti\, Bellini\, Mozart o Verdi. \nProtagonistas de carreras meteóricas desplegadas sobre un talento innato\, Mariola Cantarero\, quien a finales de 2019 dirigió su primera ópera\, o Ismael Jordi\, forjado a la sombra de Alfredo Kraus\, vuelven a reunirse en torno a un programa de canciones de Turina y Barrios completado con romanzas y dúos de zarzuela y ópera\, en un Teatro donde una vez fueron la pareja explosiva de una Traviata inolvidable y sobre cuyo escenario han crecido como los grandes reclamos del belcantismo andaluz más internacional. \n\n\n\n\n\n\n\n\n\n\nTenor: Ismael Jordi\nSoprano: Mariola Cantarero\nPiano: Rubén Fernández Aguirre
URL:https://www.asao.es/event/recital-lirico-ismael-jordi-y-mariola-cantarero-teatro-de-la-maestranza
LOCATION:Teatro de la Maestranza\, Paseo de Cristóbal Colón\, 22\, Sevilla\, Sevilla\, 41001\, España
ATTACH;FMTTYPE=image/png:https://www.asao.es/wp-content/uploads/2021/02/belcantismo_andaluz.png
END:VEVENT
BEGIN:VEVENT
DTSTART;TZID=UTC:20210212T190000
DTEND;TZID=UTC:20210212T200000
DTSTAMP:20260422T160732
CREATED:20210208T154509Z
LAST-MODIFIED:20210208T164927Z
UID:15416-1613156400-1613160000@www.asao.es
SUMMARY:EN TORNO A… Un ballo in maschera (En streaming)
DESCRIPTION:La primera mesa redonda de la ASAO y el Teatro de la Maestranza de 2021 gira en torno a la función Un ballo in maschera. \nEl acto tendrá lugar en la Sala de Prensa del Teatro el 12 de febrero a las 19.00 horas y será retransmitido en directo en streaming a través del Canal Youtube del Teatro de la Maestranza. \nContará con la intervención de los protagonistas\, el tenor Ramón Vargas y Marina Monzó. Modera el debate Ignacio Trujillo\, presidente de la ASAO \nUn ballo in maschera es una producción del Teatro La Fenice de Venecia. Reposición en colaboración entre Teatro de la Maestranza y el Teatro Real. Francesco Ivan Ciampa\, al frente de la ROSS y del Coro de la A.A. del Teatro de la Maestranza\, dirige al gran tenor mexicano Ramón Vargas junto a Lianna Haroutounian o Gabriele Viviani en un cast de primer orden para un gran Verdi.
URL:https://www.asao.es/event/en-torno-a-un-ballo-in-maschera-en-streaming
LOCATION:Teatro de la Maestranza\, Paseo de Cristóbal Colón\, 22\, Sevilla\, Sevilla\, 41001\, España
ATTACH;FMTTYPE=image/jpeg:https://www.asao.es/wp-content/uploads/2021/02/post_mesa_redonda_protagonistas.jpg
END:VEVENT
BEGIN:VEVENT
DTSTART;TZID=UTC:20201217T183000
DTEND;TZID=UTC:20201217T183000
DTSTAMP:20260422T160732
CREATED:20201217T084716Z
LAST-MODIFIED:20201217T084848Z
UID:15357-1608229800-1608229800@www.asao.es
SUMMARY:Recital Poético Musical en Streaming. De La Estirpe de Bécquer en el Real Círculo de Labradores
DESCRIPTION:El próximo jueves 17 de diciembre los poetas de Sevilla recuerdan a Gustavo Adolfo Bécquer. Se cumplen 150 años de la muerte del gran renovador de las letras españolas\, y el Real Circulo de Labradores y Propietarios rinde homenaje a su leyenda con una novísima mirada a su obra. \n\n\n \n\n\n📖 De la estirpe de Bécquer es una compilación en la que 40 autores españoles establecen un diálogo entre sus versos y las célebres Rimas. \n\n\n \n\n\nHoy a las 18.30 os animamos a disfrutar de una lectura poética de estos versos de viva voz de algunos de los autores que han colaborado en la edición de este poemario.  Será en el Patio Central de Pedro Caravaca e incluirá obras (inspiradas en el famoso poeta sevillano) de Aquilino Duque\, Juan Lamillar\, Lutgardo García Díaz\, Gonzalo Gragera\, Alberto García Reyes\, José Mª Jurado\, María Sanz\, Luis Sánchez Moliní\, Enrique Gª Maiquez\, Esther Garboni\, José Manuel Benot\, Pilar Alcalá\, Víctor Jiménez\, José Luis Rodríguez Ojeda\, José Antonio Gómez Coronado\, Antonio Rivero Taravillo\, Santos Domínguez e Ignacio Trujillo\, entre otros.\n\n\n \n\n\nDurante la lectura disfrutaremos de la interpretación de varias obras de Turina\, Falla y Sidorowitch por parte de Carolina Moreno de Alba\, Patricia Calvache y Aurora Galán\, acompañadas al piano por Francisco Soriano. \n\n\n \n\n\n👉Seguidlo en directo a través de Youtube https://www.youtube.com/watch?v=bEnKWMQOCm4&feature=youtu.be
URL:https://www.asao.es/event/recital-poetico-musical-en-streaming-de-la-estirpe-de-becquer-en-el-real-circulo-de-labradores
LOCATION:Real Círculo de Labradores y Propietarios de Sevilla. C/ Pedro Caravaca\, 1\, C/ Pedro Caravaca\, 1\, Sevilla\, Sevilla\, 41001\, España
ATTACH;FMTTYPE=image/png:https://www.asao.es/wp-content/uploads/2020/12/becquer_labradores.png
END:VEVENT
BEGIN:VEVENT
DTSTART;TZID=UTC:20201101T193000
DTEND;TZID=UTC:20201101T220000
DTSTAMP:20260422T160732
CREATED:20201019T142044Z
LAST-MODIFIED:20201028T073940Z
UID:15297-1604259000-1604268000@www.asao.es
SUMMARY:'Gotas románticas. Al descubierto'. Diana Larios y Francisco Soriano en Espacio Turina
DESCRIPTION:El Espacio Turina acoge el recital lírico «Gotas Románticas. Al descubierto»\, con  la soprano DIANA LARIOS  (Ganadora del 2º premio Sevilla Ciudad de la Ópera) y FRANCISCO SORIANO\, coordinador artístico de la ASAO\, y Catedrático en el Conservatorio Superior Manuel Castillo de Sevilla\, al piano. \nPrograma \nHändel / Mozart / Rossini / J. Turina / F. Poulenc / PUCCINI / VERDI \n· Piangerò la sorte mia (Julio César. Händel) \n· Dove sono (Bodas de Fígaro. Mozart) \n· Giusto ciel\, in tal periglio (Asedio de Corinto. Rossini) \n· Tres poemas (Op. 81 J. Turina) Interludio Zambra (Danzas gitanas Op. 55 J. Turina) \n· Les chemins de l’amour (F. Poulenc) \n· Donde lieta uscì (La Boheme. Puccini) \n· Vissi d’arte (Tosca. Puccini) · Sempre libera (Traviata. Verdi) \nPrecio de la entrada \n10 € /  20 % descuento para grupos
URL:https://www.asao.es/event/diana-larios-y-francisco-soriano-opera-en-sevilla
LOCATION:Espacio Turina (ICAS)\, C/ Laraña\, 4\, Sevilla\, Sevilla\, 41003\, España
ATTACH;FMTTYPE=image/png:https://www.asao.es/wp-content/uploads/2020/10/diana_larios_francisco_soriano.png
ORGANIZER;CN="ASAO%20%7C%20Asociaci%C3%B3n%20Sevillana%20Amigos%20de%20la%20%C3%93pera":MAILTO:info@asao.es
END:VEVENT
END:VCALENDAR